BEGIN:VCALENDAR
VERSION:2.0
PRODID:-//Department Of Education//69efeca8-68cf-48a1-92af-39ada6c655dc
BEGIN:VTIMEZONE
TZID:Australia/Sydney
TZURL:http://tzurl.org/zoneinfo-outlook/Australia/Sydney
X-LIC-LOCATION:Australia/Sydney
BEGIN:STANDARD
TZOFFSETFROM:+1100
TZOFFSETTO:+1000
TZNAME:AEST
DTSTART:19700405T030000
RRULE:FREQ=YEARLY;BYMONTH=4;BYDAY=1SU
END:STANDARD
BEGIN:DAYLIGHT
TZOFFSETFROM:+1000
TZOFFSETTO:+1100
TZNAME:AEDT
DTSTART:19701004T020000
RRULE:FREQ=YEARLY;BYMONTH=10;BYDAY=1SU
END:DAYLIGHT
END:VTIMEZONE
CALSCALE:GREGORIAN
X-WR-TIMEZONE:Australia/Sydney
BEGIN:VEVENT
DTSTART;TZID=Australia/Sydney:20200311T081501
DTEND;TZID=Australia/Sydney:20200311T143016
DTSTAMP:20200311T000000Z
UID:91aeb8ae-b262-4476-86c7-e0eaa9537ec9
LOCATION:Sydney Zoo,  Bungarrribee
SUMMARY;LANGUAGE=en-us:Variety Sydney Zoo Fun Day
SEQUENCE:0
DESCRIPTION:The Support Unit students have been invited to attend the Sydney Zoo Fun Day and enjoy a great day exploring the new zoo.
END:VEVENT
TRANSP:TRANSPARENT
END:VCALENDAR
