BEGIN:VCALENDAR
VERSION:2.0
PRODID:-//Department Of Education//a301b82b-69d7-44ef-9be5-d1f789cca838
BEGIN:VTIMEZONE
TZID:Australia/Sydney
TZURL:http://tzurl.org/zoneinfo-outlook/Australia/Sydney
X-LIC-LOCATION:Australia/Sydney
BEGIN:STANDARD
TZOFFSETFROM:+1100
TZOFFSETTO:+1000
TZNAME:AEST
DTSTART:19700405T030000
RRULE:FREQ=YEARLY;BYMONTH=4;BYDAY=1SU
END:STANDARD
BEGIN:DAYLIGHT
TZOFFSETFROM:+1000
TZOFFSETTO:+1100
TZNAME:AEDT
DTSTART:19701004T020000
RRULE:FREQ=YEARLY;BYMONTH=10;BYDAY=1SU
END:DAYLIGHT
END:VTIMEZONE
CALSCALE:GREGORIAN
X-WR-TIMEZONE:Australia/Sydney
BEGIN:VEVENT
DTSTART;TZID=Australia/Sydney:20200303T083004
DTEND;TZID=Australia/Sydney:20200303T093013
DTSTAMP:20200303T000000Z
UID:80405e4b-a407-42b4-ad7e-0f9d0349dbd2
LOCATION:Library
SUMMARY;LANGUAGE=en-us:Parent Workshop
SEQUENCE:0
DESCRIPTION:Information morning. Have you heard all the talk about this reading challenge for children but never really understood what it's all about? Coffee/tea and biscuits provided
END:VEVENT
TRANSP:TRANSPARENT
END:VCALENDAR
