BEGIN:VCALENDAR
VERSION:2.0
PRODID:-//Department Of Education//397ccb71-1e00-4bba-92be-49d0c0699b61
BEGIN:VTIMEZONE
TZID:Australia/Sydney
TZURL:http://tzurl.org/zoneinfo-outlook/Australia/Sydney
X-LIC-LOCATION:Australia/Sydney
BEGIN:STANDARD
TZOFFSETFROM:+1100
TZOFFSETTO:+1000
TZNAME:AEST
DTSTART:19700405T030000
RRULE:FREQ=YEARLY;BYMONTH=4;BYDAY=1SU
END:STANDARD
BEGIN:DAYLIGHT
TZOFFSETFROM:+1000
TZOFFSETTO:+1100
TZNAME:AEDT
DTSTART:19701004T020000
RRULE:FREQ=YEARLY;BYMONTH=10;BYDAY=1SU
END:DAYLIGHT
END:VTIMEZONE
CALSCALE:GREGORIAN
X-WR-TIMEZONE:Australia/Sydney
BEGIN:VEVENT
DTSTART;VALUE=DATE:20200325
DTEND;VALUE=DATE:20200326
DTSTAMP:20200325T000000Z
UID:5368bfca-2d14-4748-a5f3-ca42b70c314e
LOCATION:School Hall
SUMMARY;LANGUAGE=en-us:P & C Disco
SEQUENCE:0
DESCRIPTION:SAVE THE DATE    Further information will be sent closer to the date.  K - 2 commences at 4:30pm finishes  5:45pm  Years 3 - 6 commences at 6pm finishes 7:30pm   
END:VEVENT
TRANSP:TRANSPARENT
END:VCALENDAR
