BEGIN:VCALENDAR
VERSION:2.0
PRODID:-//Department Of Education//b525e2c9-7258-418a-b457-4a9289b4e792
BEGIN:VTIMEZONE
TZID:Australia/Sydney
TZURL:http://tzurl.org/zoneinfo-outlook/Australia/Sydney
X-LIC-LOCATION:Australia/Sydney
BEGIN:STANDARD
TZOFFSETFROM:+1100
TZOFFSETTO:+1000
TZNAME:AEST
DTSTART:19700405T030000
RRULE:FREQ=YEARLY;BYMONTH=4;BYDAY=1SU
END:STANDARD
BEGIN:DAYLIGHT
TZOFFSETFROM:+1000
TZOFFSETTO:+1100
TZNAME:AEDT
DTSTART:19701004T020000
RRULE:FREQ=YEARLY;BYMONTH=10;BYDAY=1SU
END:DAYLIGHT
END:VTIMEZONE
CALSCALE:GREGORIAN
X-WR-TIMEZONE:Australia/Sydney
BEGIN:VEVENT
DTSTART;TZID=Australia/Sydney:20200312T100059
DTEND;TZID=Australia/Sydney:20200312T140014
DTSTAMP:20200312T000000Z
UID:bfd95c0a-58ac-4eb3-86dc-c4a4ff48baf5
LOCATION:Ryde Aquatic Leisure Centre
SUMMARY;LANGUAGE=en-us:2020 Northcott Swimming Carnival 
SEQUENCE:0
DESCRIPTION:The Northcott Interschool Swimming Carnival for primary students with a disability. The venue, Ryde Aquatic Leisure Centre is located at 504 Victoria Road, Ryde.
END:VEVENT
TRANSP:TRANSPARENT
END:VCALENDAR
